BEGIN:VCALENDAR
VERSION:2.0
PRODID:-//Falkor//Falkor Events//EN
CALSCALE:GREGORIAN
METHOD:PUBLISH
BEGIN:VEVENT
DTSTART:20260904T160000Z
DTEND:20260906T000000Z
SUMMARY:Agenda Show Long Beach - September 2026
DESCRIPTION:Agenda Show returns to Long Beach Convention Center for its fall edition — the streetwear\, action sports\, and lifestyle trade show that's been the pulse of West Coast street culture since 2003. Labels\, buyers\, artists\, and a few thousand people who know the difference between a sample and a sellout. The floor is where you find what everyone will be wearing in six months. Tickets and exhibitor list at agendashow.com.
LOCATION:Long Beach Convention Center\, 300 E Ocean Blvd\, Long Beach\, CA 90802
URL:https://www.falkorevents.com/eventcal/event/4741/details/
UID:event-4741@falkorevents.com
END:VEVENT
END:VCALENDAR