BEGIN:VCALENDAR
VERSION:2.0
PRODID:-//Falkor//Falkor Events//EN
CALSCALE:GREGORIAN
METHOD:PUBLISH
BEGIN:VEVENT
DTSTART:20261010T160000Z
DTEND:20261011T235900Z
SUMMARY:Anime Impulse Fall 2026 - Pomona Fairplex
DESCRIPTION:Anime Impulse returns to the Pomona Fairplex for its fall weekend — a two-day anime and J-culture convention with cosplay\, artist alley\, panels\, and vendors running the full range from mainstream to niche. The Fairplex is the right venue: big enough for a real expo floor\, outdoor space for gathering between panels\, and close enough to LA that the cosplay competition pulls serious talent. Tickets at animeimpulse.com. Who's going in costume?
LOCATION:Pomona Fairplex\, 1101 W McKinley Ave\, Pomona\, CA 91768
URL:https://www.falkorevents.com/eventcal/event/4742/details/
UID:event-4742@falkorevents.com
END:VEVENT
END:VCALENDAR