BEGIN:VCALENDAR
VERSION:2.0
PRODID:-//Falkor//Falkor Events//EN
CALSCALE:GREGORIAN
METHOD:PUBLISH
BEGIN:VEVENT
DTSTART:20261106T200000Z
DTEND:20261108T235900Z
SUMMARY:Pacific Media Expo 2026 (PMX)
DESCRIPTION:Pacific Media Expo has been running every November near LAX for over two decades — the anime and J-music convention that stays small on purpose. Guest lineups lean toward industry: voice actors\, directors\, composers who do panels you can't get at a 100\,000-person show. No badge line spectacle. Just the people who came because they wanted to. The crowd that shows up for PMX has been watching since the fansub era. Tickets at pacificmediaexpo.com.
LOCATION:Los Angeles Airport Marriott\, 5855 W Century Blvd\, Los Angeles\, CA 90045
URL:https://www.falkorevents.com/eventcal/event/4743/details/
UID:event-4743@falkorevents.com
END:VEVENT
END:VCALENDAR