BEGIN:VCALENDAR
VERSION:2.0
PRODID:-//Falkor//Falkor Events//EN
CALSCALE:GREGORIAN
METHOD:PUBLISH
BEGIN:VEVENT
DTSTART:20260515T010000Z
DTEND:20260829T050000Z
SUMMARY:Rooftop Cinema Club San Diego - Summer Series 2026
DESCRIPTION:Rooftop Cinema Club runs outdoor screenings across San Diego all summer — film on a big screen above the city\, wireless headphones so the sound is yours alone\, and the kind of evening that doesn't feel like a Tuesday. The lineup mixes classics\, cult favorites\, and new releases. Tickets book fast for weekend nights. Check rooftopcinemaclub.com for the full schedule and grab seats before the good ones go. This is what a movie night is supposed to be.
LOCATION:Various Rooftop Venues\, San Diego\, CA 92108
URL:https://www.falkorevents.com/eventcal/event/4744/details/
UID:event-4744@falkorevents.com
END:VEVENT
END:VCALENDAR