BEGIN:VCALENDAR
VERSION:2.0
PRODID:-//Falkor//Falkor Events//EN
CALSCALE:GREGORIAN
METHOD:PUBLISH
BEGIN:VEVENT
DTSTART:20260919T170000Z
DTEND:20260920T235900Z
SUMMARY:Temecula Wine Harvest Weekend 2026
DESCRIPTION:Harvest season in Temecula Valley — when the vineyards are at their peak and the wineries open their crush pads and barrel rooms to visitors. Old Town fills with wine tastings\, local food\, live music\, and the specific energy of a weekend when the whole valley is in the same mood. No planning required: show up\, follow your nose\, and see where the afternoon goes. Details and participating wineries at visittemeculavalley.com.
LOCATION:Old Town Temecula\, 28690 Old Town Front St\, Temecula\, CA 92590
URL:https://www.falkorevents.com/eventcal/event/4745/details/
UID:event-4745@falkorevents.com
END:VEVENT
END:VCALENDAR