BEGIN:VCALENDAR
VERSION:2.0
PRODID:-//Falkor//Falkor Events//EN
CALSCALE:GREGORIAN
METHOD:PUBLISH
BEGIN:VEVENT
DTSTART:20260627T170000Z
DTEND:20260628T030000Z
SUMMARY:Ocean Beach Street Fair & Chili Cook-Off 2026
DESCRIPTION:OB Street Fair has been shutting down Newport Avenue every June since the 1970s. A full mile of vendors\, live music on two stages\, and the chili cook-off that draws entries from across San Diego and a crowd that takes the judging seriously. This is the event that reminds you why Ocean Beach exists. Bring cash\, get there early for parking\, and eat something before you get to the chili tent. Free admission. June 27-28.
LOCATION:Newport Ave\, Ocean Beach\, San Diego\, CA 92107
URL:https://www.falkorevents.com/eventcal/event/4746/details/
UID:event-4746@falkorevents.com
END:VEVENT
END:VCALENDAR