BEGIN:VCALENDAR
VERSION:2.0
PRODID:-//Falkor//Falkor Events//EN
CALSCALE:GREGORIAN
METHOD:PUBLISH
BEGIN:VEVENT
DTSTART:20260516T170000Z
DTEND:20260517T020000Z
SUMMARY:Hillcrest City Fest 2026
DESCRIPTION:Hillcrest City Fest closes University Avenue every spring for one of San Diego's most densely packed street festivals — food vendors\, local businesses\, live entertainment across multiple stages\, and a neighborhood that shows up fully for its own party. The crowd is exactly what you'd expect from Hillcrest: diverse\, creative\, and loud in the best possible way. Free admission. Details at hillcrestcityfest.com.
LOCATION:University Ave\, Hillcrest\, San Diego\, CA 92103
URL:https://www.falkorevents.com/eventcal/event/4747/details/
UID:event-4747@falkorevents.com
END:VEVENT
END:VCALENDAR