BEGIN:VCALENDAR
VERSION:2.0
PRODID:-//Falkor//Falkor Events//EN
CALSCALE:GREGORIAN
METHOD:PUBLISH
BEGIN:VEVENT
DTSTART:20261105T200000Z
DTEND:20261115T040000Z
SUMMARY:San Diego Asian Film Festival 2026 (SDAFF)
DESCRIPTION:San Diego Asian Film Festival runs eleven days every November at the Gaslamp — a curated program of Asian and Asian American cinema that consistently premieres films months before their wide release. The anime and manga adaptations alone are worth the price of a pass. The short film block is where you find the directors no one has heard of yet. Full program and passes at sdaff.org. The people who go every year talk about it for the other fifty-two weeks.
LOCATION:Reading Cinemas Gaslamp 15\, 701 5th Ave\, San Diego\, CA 92101
URL:https://www.falkorevents.com/eventcal/event/4748/details/
UID:event-4748@falkorevents.com
END:VEVENT
END:VCALENDAR