BEGIN:VCALENDAR
VERSION:2.0
PRODID:-//Falkor//Falkor Events//EN
CALSCALE:GREGORIAN
METHOD:PUBLISH
BEGIN:VEVENT
DTSTART:20260601T140000Z
DTEND:20261231T040000Z
SUMMARY:Breakout Games San Diego - Escape Room Experiences 2026
DESCRIPTION:Breakout Games San Diego runs escape rooms you can book same-day — groups of 2 to 10\, sixty minutes\, and a story that's actually worth following. Multiple themed rooms across difficulty levels: horror\, mystery\, heist. The production quality here is not a padlock-and-clue situation. Book at breakoutgames.com/san-diego. The group that beats an escape room in one hour has a good night.
LOCATION:Breakout Games\, Mission Valley\, San Diego\, CA 92108
URL:https://www.falkorevents.com/eventcal/event/4749/details/
UID:event-4749@falkorevents.com
END:VEVENT
END:VCALENDAR