BEGIN:VCALENDAR
VERSION:2.0
PRODID:-//Falkor//Falkor Events//EN
CALSCALE:GREGORIAN
METHOD:PUBLISH
BEGIN:VEVENT
DTSTART:20260901T000000Z
DTEND:20261130T060000Z
SUMMARY:Observatory North Park Fall Concert Series 2026
DESCRIPTION:The Observatory North Park is the best medium-capacity room in San Diego — 1\,900 capacity\, excellent sound\, and a balcony that fills with people who got there early and planned it that way. The fall season runs September through November and typically carries the most interesting bookings of the year. Indie\, alt\, hip-hop\, punk — the mix varies but the room is always the same: close enough to see the sweat\, loud enough to feel it. Full calendar at observatorysd.com.
LOCATION:The Observatory North Park\, 2891 University Ave\, San Diego\, CA 92104
URL:https://www.falkorevents.com/eventcal/event/4750/details/
UID:event-4750@falkorevents.com
END:VEVENT
END:VCALENDAR