BEGIN:VCALENDAR
VERSION:2.0
PRODID:-//Falkor//Falkor Events//EN
CALSCALE:GREGORIAN
METHOD:PUBLISH
BEGIN:VEVENT
DTSTART:20261031T200000Z
DTEND:20261101T060000Z
SUMMARY:Gaslamp Halloween Bar Crawl 2026
DESCRIPTION:The Gaslamp on Halloween is the one night a year the neighborhood goes completely feral. The bar crawl spans the entire quarter — a wristband gets you into venues\, specials at each stop\, and a costume contest that rewards the obscure reference over the off-the-shelf category. The crowd is cosplay-dense and everyone came to participate. Get your wristband early at gaslamp.org. Costume required to take it seriously.
LOCATION:Gaslamp Quarter\, 614 5th Ave\, San Diego\, CA 92101
URL:https://www.falkorevents.com/eventcal/event/4751/details/
UID:event-4751@falkorevents.com
END:VEVENT
END:VCALENDAR