BEGIN:VCALENDAR
VERSION:2.0
PRODID:-//Falkor//Falkor Events//EN
CALSCALE:GREGORIAN
METHOD:PUBLISH
BEGIN:VEVENT
DTSTART:20260808T150000Z
DTEND:20260809T235900Z
SUMMARY:San Diego Pinball Open 2026
DESCRIPTION:The San Diego Pinball Open draws the west coast's competitive pinball circuit to a two-day open tournament — vintage machines alongside modern titles\, IFPA-rated for players who track their ranking\, and open divisions for anyone who grew up on arcade floors and wants to find out how they actually rank. The people who show up for this are exactly who you think they are: gamers\, collectors\, and people who know exactly which game they're going for first. Details at ifpapinball.com.
LOCATION:Dave & Buster's San Diego\, 2931 Camino del Rio N\, San Diego\, CA 92108
URL:https://www.falkorevents.com/eventcal/event/4752/details/
UID:event-4752@falkorevents.com
END:VEVENT
END:VCALENDAR