BEGIN:VCALENDAR
VERSION:2.0
PRODID:-//Falkor//Falkor Events//EN
CALSCALE:GREGORIAN
METHOD:PUBLISH
BEGIN:VEVENT
DTSTART:20260822T170000Z
DTEND:20260824T010000Z
SUMMARY:Anime Impulse Orange County 2026
DESCRIPTION:Anime Impulse returns to the Anaheim Convention Center August 22–23\, 2026. The West Coast's premier anime pop-culture market — hundreds of artists\, importers\, and cosplayers filling the same space where major cons launch. The vendor floor alone makes the drive: limited prints\, rare figures\, Japanese street fashion\, and the particular energy of a room where everyone found their way here the same way you did. Tickets at animeimpulse.com.
LOCATION:Anaheim Convention Center\, 800 W Katella Ave\, Anaheim\, CA 92802
URL:https://www.falkorevents.com/eventcal/event/4754/details/
UID:event-4754@falkorevents.com
END:VEVENT
END:VCALENDAR