BEGIN:VCALENDAR
VERSION:2.0
PRODID:-//Falkor//Falkor Events//EN
CALSCALE:GREGORIAN
METHOD:PUBLISH
BEGIN:VEVENT
DTSTART:20261002T180000Z
DTEND:20261004T055900Z
SUMMARY:Fashion Week San Diego 2026
DESCRIPTION:San Diego Fashion Week returns October 2–3\, 2026 with international runway shows in the heart of downtown. The premier fashion platform in San Diego — emerging designers alongside established names\, collections that push the edge of what this region's aesthetic actually is. Two nights of runway\, previews\, and the rare opportunity to see clothes made to matter\, not just to sell. Tickets at fashionweeksd.com.
LOCATION:Downtown San Diego\, CA 92101
URL:https://www.falkorevents.com/eventcal/event/4755/details/
UID:event-4755@falkorevents.com
END:VEVENT
END:VCALENDAR