BEGIN:VCALENDAR
VERSION:2.0
PRODID:-//Falkor//Falkor Events//EN
CALSCALE:GREGORIAN
METHOD:PUBLISH
BEGIN:VEVENT
DTSTART:20261015T190000Z
DTEND:20261019T055900Z
SUMMARY:LoL Worlds 2026 — Play-In Stage (Los Angeles)
DESCRIPTION:The 2026 League of Legends World Championship opens in Los Angeles — the Play-In Stage runs October 15–18 at Riot Games Arena in Playa Vista. International dark horses from every region earn their bracket spots on home soil. The LCS Arena is the tightest\, loudest crowd in North American esports. If you've never been in that building during a live Worlds broadcast\, this is the match. Tickets via lolesports.com.
LOCATION:Riot Games Arena\, 12181 Bluff Creek Dr\, Playa Vista\, CA 90094
URL:https://www.falkorevents.com/eventcal/event/4756/details/
UID:event-4756@falkorevents.com
END:VEVENT
END:VCALENDAR