BEGIN:VCALENDAR
VERSION:2.0
PRODID:-//Falkor//Falkor Events//EN
CALSCALE:GREGORIAN
METHOD:PUBLISH
BEGIN:VEVENT
DTSTART:20260904T190000Z
DTEND:20260908T055900Z
SUMMARY:Strategicon Gateway 2026
DESCRIPTION:Strategicon Gateway brings four days of tabletop\, board games\, RPGs\, and wargames to the LAX Hilton over Labor Day weekend — September 4–7\, 2026. Hundreds of scheduled events\, open gaming tables running around the clock\, a dealer's hall\, and the rare experience of sharing a building with thousands of people who take games as seriously as you do. The largest tabletop gaming convention in Southern California. Tickets at strategicon.net.
LOCATION:LAX Hilton\, 5711 W Century Blvd\, Los Angeles\, CA 90045
URL:https://www.falkorevents.com/eventcal/event/4757/details/
UID:event-4757@falkorevents.com
END:VEVENT
END:VCALENDAR