BEGIN:VCALENDAR
VERSION:2.0
PRODID:-//Falkor//Falkor Events//EN
CALSCALE:GREGORIAN
METHOD:PUBLISH
BEGIN:VEVENT
DTSTART:20260828T150000Z
DTEND:20260831T035900Z
SUMMARY:Pokémon World Championships 2026
DESCRIPTION:The 2026 Pokémon World Championships arrive at Moscone Center in San Francisco August 28–30\, alongside the first-ever PokémonXP fan festival. The highest level of TCG\, VGC\, and GO competition on earth — plus three days of exclusive merchandise\, community events\, and the particular intensity of a room where the best players in the world are deciding who goes on the trophy forever. For the serious trainer\, this is what the whole season builds toward. Tickets at worlds.pokemon.com.
LOCATION:Moscone Center\, 747 Howard St\, San Francisco\, CA 94103
URL:https://www.falkorevents.com/eventcal/event/4758/details/
UID:event-4758@falkorevents.com
END:VEVENT
END:VCALENDAR