BEGIN:VCALENDAR
VERSION:2.0
PRODID:-//Falkor//Falkor Events//EN
CALSCALE:GREGORIAN
METHOD:PUBLISH
BEGIN:VEVENT
DTSTART:20260628T090000Z
DTEND:20260713T055900Z
SUMMARY:LoL Mid-Season Invitational 2026
DESCRIPTION:The 2026 League of Legends Mid-Season Invitational runs June 28–July 12 in Daejeon\, South Korea — streaming live on YouTube\, Twitch\, and lolesports.com. Eleven teams from every major region collide in the tournament that decides who arrives at Worlds with momentum. Watch the Play-In Stage starting June 28\, then the bracket through the Grand Final on July 12. Stream from wherever you are — this is the match that sets up everything else.
LOCATION:Daejeon Convention Center II\, Daejeon\, South Korea (streaming worldwide)
URL:https://www.falkorevents.com/eventcal/event/4759/details/
UID:event-4759@falkorevents.com
END:VEVENT
END:VCALENDAR