BEGIN:VCALENDAR
VERSION:2.0
PRODID:-//Falkor//Falkor Events//EN
CALSCALE:GREGORIAN
METHOD:PUBLISH
BEGIN:VEVENT
DTSTART:20260711T170000Z
DTEND:20260713T035900Z
SUMMARY:Pokémon GO Fest 2026: Global
DESCRIPTION:Pokémon GO Fest 2026: Global takes over July 11–12 — a worldwide event featuring Mewtwo\, Zeraora\, and a full weekend of special spawns\, raids\, and challenges accessible from anywhere on earth. Millions of trainers playing simultaneously across every time zone. Free to participate\, with a paid ticket option for enhanced gameplay. This is the one event where the whole Pokémon GO community shows up at once.
LOCATION:Online / Worldwide — play from anywhere
URL:https://www.falkorevents.com/eventcal/event/4760/details/
UID:event-4760@falkorevents.com
END:VEVENT
END:VCALENDAR