BEGIN:VCALENDAR
VERSION:2.0
PRODID:-//Falkor//Falkor Events//EN
CALSCALE:GREGORIAN
METHOD:PUBLISH
BEGIN:VEVENT
DTSTART:20260830T130000Z
DTEND:20260908T015900Z
SUMMARY:Burning Man 2026
DESCRIPTION:Black Rock City rises again August 30–September 7\, 2026\, under the theme 'Axis Mundi' — 75 commissioned art installations\, 70\,000+ participants\, and a temporary city that disappears without a trace. The desert is six hours from Murrieta. Burning Man does not explain itself to people who haven't been — only to people who are about to. The ticket sale opens April 29. Details at burningman.org.
LOCATION:Black Rock Desert\, Pershing County\, NV 89412
URL:https://www.falkorevents.com/eventcal/event/4761/details/
UID:event-4761@falkorevents.com
END:VEVENT
END:VCALENDAR