BEGIN:VCALENDAR
VERSION:2.0
PRODID:-//Falkor//Falkor Events//EN
CALSCALE:GREGORIAN
METHOD:PUBLISH
BEGIN:VEVENT
DTSTART:20270624T160000Z
DTEND:20270822T235900Z
SUMMARY:FIFA Women's World Cup 2027 — Brazil
DESCRIPTION:The FIFA Women's World Cup returns in 2027\, hosted by Brazil across six cities including Rio de Janeiro\, Sao Paulo\, Belo Horizonte\, and Brasilia. It is the first Women's World Cup in South America and the ninth edition of the tournament. The 2023 edition in Australia and New Zealand drew a global audience of over two billion and produced the most-watched women's soccer final in history. Note: People often search for a "2026 FIFA Women's World Cup" -- there is no 2026 edition. The Women's World Cup runs on a four-year cycle separate from the Men's: 2023 (Australia/New Zealand) → 2027 (Brazil). The 2026 FIFA Men's World Cup is a separate tournament hosted by the USA\, Mexico\, and Canada. Dates: June–August 2027. Official site: fifa.com/womensworldcup
LOCATION:Brazil (Rio de Janeiro\, Sao Paulo\, Belo Horizonte\, Brasilia\, Porto Alegre\, Manaus)
URL:https://www.falkorevents.com/eventcal/event/4762/details/
UID:event-4762@falkorevents.com
END:VEVENT
END:VCALENDAR