BEGIN:VCALENDAR
VERSION:2.0
PRODID:-//Falkor//Falkor Events//EN
CALSCALE:GREGORIAN
METHOD:PUBLISH
BEGIN:VEVENT
DTSTART:20260512T230000Z
DTEND:20260513T000000Z
SUMMARY:K-pop Dance Class: Fatal Trouble by ENHYPEN
DESCRIPTION:Learn the choreography from ENHYPEN's hit Fatal Trouble in a one-hour in-person dance class at Creative Studio Spaces in Murrieta. Open to all levels — beginners welcome\, no experience required. ENHYPEN is one of the most technically precise K-pop groups working today\, and this class breaks down the moves so you can actually do them. Come solo or bring a friend. The room is full of people who already know every beat of this song. Tickets on Eventbrite. Refunds available up to 7 days before the event.
LOCATION:24910 Washington Ave\, Suite 201\, Murrieta\, CA 92562
URL:https://www.falkorevents.com/eventcal/event/4763/details/
UID:event-4763@falkorevents.com
END:VEVENT
END:VCALENDAR