BEGIN:VCALENDAR
VERSION:2.0
PRODID:-//Falkor//Falkor Events//EN
CALSCALE:GREGORIAN
METHOD:PUBLISH
BEGIN:VEVENT
DTSTART:20261113T230000Z
DTEND:20261116T020000Z
SUMMARY:San Diego Anime Convention 2026
DESCRIPTION:San Diego Anime Con returns for its fourth year November 13-15 at the DoubleTree Mission Valley. Three days of anime culture: 50+ vendors\, 50+ artists\, a maid cafe\, VR and board game rooms\, panels\, idol performances\, variety shows\, and game shows. Silk Road Productions has grown this into one of the premier anime conventions in Southern California outside of Anime Expo. Single-day passes from 0\, 3-day passes from 0. VIP available at 00. Early registration pricing through June 12. Tickets on Eventbrite.
LOCATION:DoubleTree by Hilton Hotel San Diego - Mission Valley\, 7450 Hazard Center Dr\, San Diego\, CA 92108
URL:https://www.falkorevents.com/eventcal/event/4764/details/
UID:event-4764@falkorevents.com
END:VEVENT
END:VCALENDAR