BEGIN:VCALENDAR
VERSION:2.0
PRODID:-//Falkor//Falkor Events//EN
CALSCALE:GREGORIAN
METHOD:PUBLISH
BEGIN:VEVENT
DTSTART:20260429T020000Z
DTEND:20260429T050000Z
SUMMARY:Foodies + New Friends: San Diego — Anime Edition
DESCRIPTION:A micro-networking dinner series for anime fans in San Diego. Groups of 4-6 strangers are matched by age\, hobbies\, and interests\, then sent to a different San Diego restaurant each week. You do not know where you're going until after you register. The anime edition brings together people who want to talk Demon Slayer\, Jujutsu Kaisen\, and whatever they've been watching alone for years. Recurring weekly. Exact restaurant revealed to registrants after sign-up. Organized by Ermantourage Sports. Follow @ermantourage on Instagram.
LOCATION:Kettner Boulevard\, San Diego\, CA 92101
URL:https://www.falkorevents.com/eventcal/event/4765/details/
UID:event-4765@falkorevents.com
END:VEVENT
END:VCALENDAR