BEGIN:VCALENDAR
VERSION:2.0
PRODID:-//Falkor//Falkor Events//EN
CALSCALE:GREGORIAN
METHOD:PUBLISH
BEGIN:VEVENT
DTSTART:20260425T180000Z
DTEND:20260426T030000Z
SUMMARY:Temecula Book Crawl
DESCRIPTION:A literary crawl through Old Town Temecula on Saturday April 25 — indie authors\, independent bookstores\, and the Wandering Book Bus all in one afternoon. Meet the writers\, discuss what you've been reading\, and buy signed copies directly from the people who wrote them. Quail craft beer bar and wine is part of the route. The Indie Bookstore Day Experience Package includes a collectible library stamp card\, tote bag\, one drink at Quail\, and 15% off at the Wandering Book Bus. Organized by Slvr Pynx. Tickets on Eventbrite.
LOCATION:42072 5th St\, Temecula\, CA 92590
URL:https://www.falkorevents.com/eventcal/event/4766/details/
UID:event-4766@falkorevents.com
END:VEVENT
END:VCALENDAR