BEGIN:VCALENDAR
VERSION:2.0
PRODID:-//Falkor//Falkor Events//EN
CALSCALE:GREGORIAN
METHOD:PUBLISH
BEGIN:VEVENT
DTSTART:20260510T020000Z
DTEND:20260510T070000Z
SUMMARY:NB Ridaz Live in Murrieta
DESCRIPTION:NB Ridaz perform live at Solaris Beer and Blending in Murrieta on Saturday May 9. Doors at 7 PM. NB Ridaz are a Southern California staple — the kind of local act that draws a real crowd because the people who show up actually know the music. Solaris Beer and Blending is a craft brewery and event space on Cherry Street\, one of the better small venues in the Temecula Valley for live music. Tickets on Eventbrite. No refunds.
LOCATION:Solaris Beer & Blending\, 41601B Cherry St\, Murrieta\, CA 92562
URL:https://www.falkorevents.com/eventcal/event/4767/details/
UID:event-4767@falkorevents.com
END:VEVENT
END:VCALENDAR