BEGIN:VCALENDAR
VERSION:2.0
PRODID:-//Falkor//Falkor Events//EN
CALSCALE:GREGORIAN
METHOD:PUBLISH
BEGIN:VEVENT
DTSTART:20260613T190000Z
DTEND:20260614T010000Z
SUMMARY:Wing Fest San Diego 2026 — 9th Annual
DESCRIPTION:Nine years of wings on the San Diego waterfront. Wing Fest returns to Broadway Pier on June 13 with more chefs\, more vendors\, and a competitive cooking showdown where San Diego's best wing makers go head to head on flavor. Beer and spirits sampling\, live DJs\, lawn games\, and local sauce vendors round out six hours at one of the best outdoor event spaces in the city. Family-friendly\, rain or shine. An event that has earned its crowd by showing up every year and getting better each time. Tickets on Eventbrite.
LOCATION:Broadway Pier / Port Pavilion\, 1000 North Harbor Dr\, San Diego\, CA 92132
URL:https://www.falkorevents.com/eventcal/event/4768/details/
UID:event-4768@falkorevents.com
END:VEVENT
END:VCALENDAR