BEGIN:VCALENDAR
VERSION:2.0
PRODID:-//Falkor//Falkor Events//EN
CALSCALE:GREGORIAN
METHOD:PUBLISH
BEGIN:VEVENT
DTSTART:20261017T170000Z
DTEND:20261018T010000Z
SUMMARY:Scream Diego 2026 — Halloween & Horror Convention
DESCRIPTION:San Diego's Halloween and horror convention returns October 17 with a Zombies theme. A full vendor hall\, 20+ artists\, two panel rooms\, an independent horror film festival\, and a costume contest with prizes — all under one roof the weekend before Halloween. Free pumpkins and kids' activities for families\; children 8 and under free. Produced by Silk Road Productions\, the same team behind San Diego Anime Convention. Early Bird tickets 5\, General Admission 0 from July 1\, VIP 5. The one day a year San Diego's horror community has a room of their own.
LOCATION:DoubleTree by Hilton Hotel San Diego - Mission Valley\, 7450 Hazard Center Dr\, San Diego\, CA 92108
URL:https://www.falkorevents.com/eventcal/event/4769/details/
UID:event-4769@falkorevents.com
END:VEVENT
END:VCALENDAR