BEGIN:VCALENDAR
VERSION:2.0
PRODID:-//Falkor//Falkor Events//EN
CALSCALE:GREGORIAN
METHOD:PUBLISH
BEGIN:VEVENT
DTSTART:20260513T010000Z
DTEND:20260513T043000Z
SUMMARY:Find Your Party: D&D Night at Little Bird Brewing
DESCRIPTION:Tavern Tales Events runs rapid-fire D&D encounters at Little Bird Brewing in North Park — a craft brewery in a neighborhood that was built for exactly this kind of night. The format is built for people who want to find their regular group\, not just play once. All materials provided. No experience required. 21+\, doors at 5:30 PM. Three and a half hours of short encounters designed so you actually meet the people at your table. If you've been looking for a D&D group in San Diego\, this is the room.
LOCATION:Little Bird Brewing\, 3176 Thorn St\, San Diego\, CA 92104
URL:https://www.falkorevents.com/eventcal/event/4770/details/
UID:event-4770@falkorevents.com
END:VEVENT
END:VCALENDAR