BEGIN:VCALENDAR
VERSION:2.0
PRODID:-//Falkor//Falkor Events//EN
CALSCALE:GREGORIAN
METHOD:PUBLISH
BEGIN:VEVENT
DTSTART:20260516T170000Z
DTEND:20260517T010000Z
SUMMARY:AniPop 2026
DESCRIPTION:North County San Diego has its own anime energy â€” less mainstream\, more collector's booth at midnight\, the kind of convention where you find a print you've been looking for since forever and spend the rest of the day chasing that feeling. AniPop 2026 lands at the California Center for the Arts in Escondido on May 16th with panels\, vendors\, artists\, kawaii culture\, and enough cosplay to make the parking lot feel like a different dimension. One day\, all ages. Silk Road Productions has been running this for twelve years because they actually care about the community\, not the merch margins. Early bird: $12. General admission: $17. Kids 8 and under: free.
LOCATION:California Center for the Arts\, Escondido\, 340 North Escondido Boulevard\, Escondido\, CA 92025
URL:https://www.falkorevents.com/eventcal/event/4772/details/
UID:event-4772@falkorevents.com
END:VEVENT
END:VCALENDAR