BEGIN:VCALENDAR
VERSION:2.0
PRODID:-//Falkor//Falkor Events//EN
CALSCALE:GREGORIAN
METHOD:PUBLISH
BEGIN:VEVENT
DTSTART:20260523T023000Z
DTEND:20260523T080000Z
SUMMARY:World Goth Day San Diego 2026
DESCRIPTION:Once a year\, San Diego's underground gets to exist at full volume. World Goth Day at the Handlery Hotel on May 22nd spreads across the Crystal Ballroom\, Presidio Room\, and Garden Room â€” live bands including Our Frankenstein\, Vanta After Dark\, and Truly Lost\, drag performances\, DJ sets\, a fashion runway\, vendor shopping\, and a dance floor that doesn't close until 1 AM. This is not a costume party. This is a night built specifically for the people who dress this way every other day of the year too. Multi-venue\, 18+\, paid parking available. Doors at 7:30 PM.
LOCATION:Handlery Hotel San Diego\, 950 Hotel Circle North\, San Diego\, CA 92108
URL:https://www.falkorevents.com/eventcal/event/4773/details/
UID:event-4773@falkorevents.com
END:VEVENT
END:VCALENDAR