BEGIN:VCALENDAR
VERSION:2.0
PRODID:-//Falkor//Falkor Events//EN
CALSCALE:GREGORIAN
METHOD:PUBLISH
BEGIN:VEVENT
DTSTART:20260503T190000Z
DTEND:20260503T220000Z
SUMMARY:Dan Da Dan — Season 2 Premiere Watch Party San Diego
DESCRIPTION:Dandadan Season 2 picks up where one of the most chaotic\, tender\, genuinely funny anime in recent memory left off — Okarun\, Momo\, and the supernatural nonsense that keeps pulling them back toward each other. Nerd Bar San Diego is screening the Season 2 premiere with the crowd that was already texting about it before the opening song ends. The show that proved shonen could be weird and still hit you right in the chest.
LOCATION:Nerd Bar San Diego\, 2847 University Ave\, San Diego\, CA 92104
URL:https://www.falkorevents.com/eventcal/event/4774/details/
UID:event-4774@falkorevents.com
END:VEVENT
END:VCALENDAR