BEGIN:VCALENDAR
VERSION:2.0
PRODID:-//Falkor//Falkor Events//EN
CALSCALE:GREGORIAN
METHOD:PUBLISH
BEGIN:VEVENT
DTSTART:20260712T190000Z
DTEND:20260712T220000Z
SUMMARY:Made in Abyss Season 3 — Premiere Watch Party San Diego
DESCRIPTION:Made in Abyss Season 3 returns to the Abyss — and to the specific dread that only this show manufactures\, the kind that makes you stare at the episode runtime hoping the worst is behind the characters and knowing\, somehow\, that it isn't. Screening at Nerd Bar SD on premiere night with the fans who've been waiting since The Golden City of the Scorching Sun ended and left everything unresolved. The most emotionally dangerous anime on the current schedule.
LOCATION:Nerd Bar San Diego\, 2847 University Ave\, San Diego\, CA 92104
URL:https://www.falkorevents.com/eventcal/event/4775/details/
UID:event-4775@falkorevents.com
END:VEVENT
END:VCALENDAR