BEGIN:VCALENDAR
VERSION:2.0
PRODID:-//Falkor//Falkor Events//EN
CALSCALE:GREGORIAN
METHOD:PUBLISH
BEGIN:VEVENT
DTSTART:20261004T190000Z
DTEND:20261004T220000Z
SUMMARY:Frieren: Beyond Journey's End Season 2 — Watch Party San Diego
DESCRIPTION:Frieren Season 2 picks up the story of the elf who outlives everyone she loves and keeps moving forward anyway — slowly\, quietly\, in the way that made the first season the most watched anime of its year on Crunchyroll. Nerd Bar SD is screening the premiere with the audience that already knows what it feels like to cry at a fantasy anime about the passage of time. Bring someone who hasn't seen Season 1. You'll have a lot to explain on the drive home.
LOCATION:Nerd Bar San Diego\, 2847 University Ave\, San Diego\, CA 92104
URL:https://www.falkorevents.com/eventcal/event/4776/details/
UID:event-4776@falkorevents.com
END:VEVENT
END:VCALENDAR