BEGIN:VCALENDAR
VERSION:2.0
PRODID:-//Falkor//Falkor Events//EN
CALSCALE:GREGORIAN
METHOD:PUBLISH
BEGIN:VEVENT
DTSTART:20270107T090000Z
DTEND:20270110T180000Z
SUMMARY:Anime Los Angeles 2027
DESCRIPTION:Anime Los Angeles opens the convention calendar every January at Long Beach — four days of panels\, guest signings\, gaming rooms\, cosplay\, and the reunion energy that only the first con of the year carries. ALA runs smaller and tighter than Anime Expo\, which is exactly why its regulars keep coming back: the celebrity panels are actually accessible\, the artist alley doesn't require two hours of queueing\, and January in Southern California is a perfectly reasonable excuse to be in a convention center in a costume. The con that starts the year right.
LOCATION:Long Beach Convention Center\, 300 E Ocean Blvd\, Long Beach\, CA 90802
URL:https://www.falkorevents.com/eventcal/event/4777/details/
UID:event-4777@falkorevents.com
END:VEVENT
END:VCALENDAR