BEGIN:VCALENDAR
VERSION:2.0
PRODID:-//Falkor//Falkor Events//EN
CALSCALE:GREGORIAN
METHOD:PUBLISH
BEGIN:VEVENT
DTSTART:20261121T100000Z
DTEND:20261122T180000Z
SUMMARY:AX Chibi 2026
DESCRIPTION:AX Chibi is the smaller\, more accessible sibling of Anime Expo — held at the Anaheim Convention Center across Thanksgiving weekend\, with a floor plan that makes sense and lines that don't require a strategy. Two days of vendor halls\, artist alley\, gaming\, and the kind of cosplay that benefits from a long weekend to prepare. The event for people who love Anime Expo but want it at a scale where they can actually talk to someone.
LOCATION:Anaheim Convention Center\, 800 W Katella Ave\, Anaheim\, CA 92802
URL:https://www.falkorevents.com/eventcal/event/4778/details/
UID:event-4778@falkorevents.com
END:VEVENT
END:VCALENDAR