BEGIN:VCALENDAR
VERSION:2.0
PRODID:-//Falkor//Falkor Events//EN
CALSCALE:GREGORIAN
METHOD:PUBLISH
BEGIN:VEVENT
DTSTART:20261011T190000Z
DTEND:20261011T220000Z
SUMMARY:Chainsaw Man Season 2 — Premiere Watch Party San Diego
DESCRIPTION:Chainsaw Man Season 2 returns with Denji and the most stylistically committed animation in weekly shonen — MAPPA doing what only MAPPA does\, every episode opening with a different band's ending theme. Nerd Bar SD is screening the premiere for the audience that has been rewatching Season 1's final act since it aired. The show where the opening five minutes are never safe to summarize.
LOCATION:Nerd Bar San Diego\, 2847 University Ave\, San Diego\, CA 92104
URL:https://www.falkorevents.com/eventcal/event/4779/details/
UID:event-4779@falkorevents.com
END:VEVENT
END:VCALENDAR