BEGIN:VCALENDAR
VERSION:2.0
PRODID:-//Falkor//Falkor Events//EN
CALSCALE:GREGORIAN
METHOD:PUBLISH
BEGIN:VEVENT
DTSTART:20260517T140000Z
DTEND:20260517T180000Z
SUMMARY:Anime Temecula Valley — Monthly Meetup May 2026
DESCRIPTION:The Temecula Valley anime fan community meets monthly at the Promenade — the local gathering for fans in the IE and North SD County who don't want to drive to San Diego just to talk about what they're watching. Cosplay encouraged. New faces always welcome. May meetup: current season recap\, trading\, and the ongoing debate over the Spring 2026 lineup. For the fan who assumed everyone around here was into the same things and just hadn't found the room yet.
LOCATION:Promenade Temecula\, 40820 Winchester Rd\, Temecula\, CA 92591
URL:https://www.falkorevents.com/eventcal/event/4780/details/
UID:event-4780@falkorevents.com
END:VEVENT
END:VCALENDAR