BEGIN:VCALENDAR
VERSION:2.0
PRODID:-//Falkor//Falkor Events//EN
CALSCALE:GREGORIAN
METHOD:PUBLISH
BEGIN:VEVENT
DTSTART:20260621T140000Z
DTEND:20260621T180000Z
SUMMARY:Anime Temecula Valley — Monthly Meetup June 2026
DESCRIPTION:Monthly anime meetup for the Temecula Valley community — the IE and North SD County fans gathering mid-month to swap recommendations\, talk current season\, and do the kind of cosplay you can only pull off on a warm June afternoon. Open to new members. No membership required. Just show up\, say what you're watching\, and stay as long as you want.
LOCATION:Promenade Temecula\, 40820 Winchester Rd\, Temecula\, CA 92591
URL:https://www.falkorevents.com/eventcal/event/4781/details/
UID:event-4781@falkorevents.com
END:VEVENT
END:VCALENDAR