BEGIN:VCALENDAR
VERSION:2.0
PRODID:-//Falkor//Falkor Events//EN
CALSCALE:GREGORIAN
METHOD:PUBLISH
BEGIN:VEVENT
DTSTART:20260719T140000Z
DTEND:20260719T180000Z
SUMMARY:Anime Temecula Valley — Monthly Meetup July 2026
DESCRIPTION:Monthly anime meetup for the Temecula Valley community — the July edition falls right in the middle of Summer 2026 season and the conversation will be loud about whatever just aired the week before. Cosplay encouraged. Trades welcome. The local gathering for fans who don't always have someone in the room who gets it.
LOCATION:Promenade Temecula\, 40820 Winchester Rd\, Temecula\, CA 92591
URL:https://www.falkorevents.com/eventcal/event/4782/details/
UID:event-4782@falkorevents.com
END:VEVENT
END:VCALENDAR