BEGIN:VCALENDAR
VERSION:2.0
PRODID:-//Falkor//Falkor Events//EN
CALSCALE:GREGORIAN
METHOD:PUBLISH
BEGIN:VEVENT
DTSTART:20260816T140000Z
DTEND:20260816T180000Z
SUMMARY:Anime Temecula Valley — Monthly Meetup August 2026
DESCRIPTION:August anime meetup for the Temecula Valley fan community — the summer stretch where the season is deep enough that everyone's got opinions and the con schedules have settled into something manageable. Open to newcomers. Bring your merch\, your rankings\, and your grievances about the shows that got cancelled before the arc resolved.
LOCATION:Promenade Temecula\, 40820 Winchester Rd\, Temecula\, CA 92591
URL:https://www.falkorevents.com/eventcal/event/4783/details/
UID:event-4783@falkorevents.com
END:VEVENT
END:VCALENDAR