BEGIN:VCALENDAR
VERSION:2.0
PRODID:-//Falkor//Falkor Events//EN
CALSCALE:GREGORIAN
METHOD:PUBLISH
BEGIN:VEVENT
DTSTART:20260711T170000Z
DTEND:20260711T235900Z
SUMMARY:Super Smash Bros. Monthly — San Diego July
DESCRIPTION:Level Up SD's monthly Smash tournament runs the first Saturday of every month for competitors ranging from first-timers to regional circuit regulars. July's bracket runs Ultimate and Melee side events — singles format\, best-of-three\, pools into top cut. The San Diego Smash scene runs deep and the July session runs into summer break scheduling\, which means the talent pool is at its widest. Register day-of or preregister online.
LOCATION:Level Up SD\, 5305 Metro St\, San Diego\, CA 92110
URL:https://www.falkorevents.com/eventcal/event/4784/details/
UID:event-4784@falkorevents.com
END:VEVENT
END:VCALENDAR