BEGIN:VCALENDAR
VERSION:2.0
PRODID:-//Falkor//Falkor Events//EN
CALSCALE:GREGORIAN
METHOD:PUBLISH
BEGIN:VEVENT
DTSTART:20260905T170000Z
DTEND:20260905T235900Z
SUMMARY:Super Smash Bros. Monthly — San Diego September
DESCRIPTION:Level Up SD monthly Smash bracket — the September session runs after the summer circuit winds down\, when the circuit players are back in town and the scene consolidates around the local series. Ultimate and Melee\, singles format\, round robin pools into elimination. September in San Diego is Smash weather — the summer schedule cleared\, the September roster is always one of the strongest of the year.
LOCATION:Level Up SD\, 5305 Metro St\, San Diego\, CA 92110
URL:https://www.falkorevents.com/eventcal/event/4785/details/
UID:event-4785@falkorevents.com
END:VEVENT
END:VCALENDAR