BEGIN:VCALENDAR
VERSION:2.0
PRODID:-//Falkor//Falkor Events//EN
CALSCALE:GREGORIAN
METHOD:PUBLISH
BEGIN:VEVENT
DTSTART:20260615T193000Z
DTEND:20260615T233000Z
SUMMARY:Pokémon Night Out Concert — Los Angeles
DESCRIPTION:The Pokémon Company is staging a 30th anniversary EDM concert in Los Angeles — Marshmello and Alison Wonderland headlining with custom sets built around the franchise's music and visual identity\, at The Kia Forum in Inglewood. This is not a Pokémon GO event and not a trading card tournament — it is a full-scale arena concert for the generation that grew up on the games and kept coming back. June 15\, 2026. The Pokémon fan who also goes to festivals has been waiting for exactly this crossover.
LOCATION:The Kia Forum\, 3900 W Manchester Blvd\, Inglewood\, CA 90305
URL:https://www.falkorevents.com/eventcal/event/4786/details/
UID:event-4786@falkorevents.com
END:VEVENT
END:VCALENDAR