BEGIN:VCALENDAR
VERSION:2.0
PRODID:-//Falkor//Falkor Events//EN
CALSCALE:GREGORIAN
METHOD:PUBLISH
BEGIN:VEVENT
DTSTART:20261001T120000Z
DTEND:20261004T220000Z
SUMMARY:Smash Bros. Summit Fall 2026
DESCRIPTION:Smash Summit is the invitational that the competitive Smash community built for itself — top players invited\, intimate house format\, production that mixes high-level bracket play with challenge events and the kind of content that travels further than any tournament stream. Four days in Henderson with both Melee and Ultimate\, streamed globally. If you have never watched Smash Summit\, this is the entry point — the event that turns casual fans into people who have opinions about top eight.
LOCATION:Summit Venue\, Henderson\, NV 89002
URL:https://www.falkorevents.com/eventcal/event/4787/details/
UID:event-4787@falkorevents.com
END:VEVENT
END:VCALENDAR