BEGIN:VCALENDAR
VERSION:2.0
PRODID:-//Falkor//Falkor Events//EN
CALSCALE:GREGORIAN
METHOD:PUBLISH
BEGIN:VEVENT
DTSTART:20260703T180000Z
DTEND:20260703T220000Z
SUMMARY:MTG Friday Night Magic — Artificer San Diego July
DESCRIPTION:Friday Night Magic at Artificer San Diego — the weekly sanctioned tournament that runs Draft\, Sealed\, or Standard depending on the current set. July's FNM lands in the middle of summer release season\; the metagame shifts\, new cards arrive\, and the regular players who've been goldfishing all week finally get to test their builds against people who showed up with the same idea. Open to all skill levels. Packs on the line.
LOCATION:Artificer San Diego\, 5097 Newport Ave\, San Diego\, CA 92107
URL:https://www.falkorevents.com/eventcal/event/4788/details/
UID:event-4788@falkorevents.com
END:VEVENT
END:VCALENDAR