BEGIN:VCALENDAR
VERSION:2.0
PRODID:-//Falkor//Falkor Events//EN
CALSCALE:GREGORIAN
METHOD:PUBLISH
BEGIN:VEVENT
DTSTART:20260807T180000Z
DTEND:20260807T220000Z
SUMMARY:MTG Friday Night Magic — Artificer San Diego August
DESCRIPTION:Friday Night Magic at Artificer SD — August brings the summer crowd back to the card table with whatever set just dropped and a meta that's been argued about on Reddit all week. Draft or Constructed depending on the week's format. The local MTG community in Ocean Beach runs year-round\; August FNM is where the summer build-testing settles into actual game results.
LOCATION:Artificer San Diego\, 5097 Newport Ave\, San Diego\, CA 92107
URL:https://www.falkorevents.com/eventcal/event/4789/details/
UID:event-4789@falkorevents.com
END:VEVENT
END:VCALENDAR