BEGIN:VCALENDAR
VERSION:2.0
PRODID:-//Falkor//Falkor Events//EN
CALSCALE:GREGORIAN
METHOD:PUBLISH
BEGIN:VEVENT
DTSTART:20260904T180000Z
DTEND:20260904T220000Z
SUMMARY:MTG Friday Night Magic — Artificer San Diego September
DESCRIPTION:Friday Night Magic at Artificer San Diego — the first FNM of fall season\, the week when the summer regulars are back on schedule and the fall set has just dropped or is about to. The September session runs just before the competitive season's fall regional calendar kicks off\, making it the last low-pressure night before everyone has something to prove.
LOCATION:Artificer San Diego\, 5097 Newport Ave\, San Diego\, CA 92107
URL:https://www.falkorevents.com/eventcal/event/4790/details/
UID:event-4790@falkorevents.com
END:VEVENT
END:VCALENDAR