BEGIN:VCALENDAR
VERSION:2.0
PRODID:-//Falkor//Falkor Events//EN
CALSCALE:GREGORIAN
METHOD:PUBLISH
BEGIN:VEVENT
DTSTART:20261121T130000Z
DTEND:20261121T210000Z
SUMMARY:GameSync Monthly Open Tournament — November 2026
DESCRIPTION:GameSync's monthly open tournament lands over Thanksgiving weekend in November — a full-day mixed format bracket across the facility's 100+ gaming stations. Multiple titles in rotation: current competitive favorites plus community votes on what runs for the day. The November session always draws a bigger-than-usual crowd since the break schedule clears out the regulars who are normally stuck at work or school. Walk-in registration available on the day.
LOCATION:GameSync Esports Center\, 9520 Padgett St Suite 201\, San Diego\, CA 92126
URL:https://www.falkorevents.com/eventcal/event/4791/details/
UID:event-4791@falkorevents.com
END:VEVENT
END:VCALENDAR