BEGIN:VCALENDAR
VERSION:2.0
PRODID:-//Falkor//Falkor Events//EN
CALSCALE:GREGORIAN
METHOD:PUBLISH
BEGIN:VEVENT
DTSTART:20260926T100000Z
DTEND:20260927T180000Z
SUMMARY:San Diego Retro Game Fair 2026
DESCRIPTION:The San Diego Retro Game Fair fills Del Mar Fairgrounds for a weekend of buying\, selling\, and playing the games that defined the hobby — NES\, SNES\, Genesis\, N64\, PlayStation\, Dreamcast\, and the deeper cuts that show up in the back row of a collector's table and make you stop walking. Hundreds of vendors\, free-play stations set up across the floor\, and the specific joy of finding a CIB copy of something you thought was gone. San Diego's premier destination for collectors who take the hobby seriously and the newcomers who are about to start.
LOCATION:Del Mar Fairgrounds\, 2260 Jimmy Durante Blvd\, Del Mar\, CA 92014
URL:https://www.falkorevents.com/eventcal/event/4792/details/
UID:event-4792@falkorevents.com
END:VEVENT
END:VCALENDAR